BEGIN:VCALENDAR
VERSION:2.0
PRODID:-//wp-events-plugin.com//7.2.3.1//EN
TZID:America/New_York
X-WR-TIMEZONE:America/New_York
BEGIN:VEVENT
UID:578@twinlakesrecoverycenter.com
DTSTART;TZID=America/Chicago:20190427T093000
DTEND;TZID=America/Chicago:20190427T153000
DTSTAMP:20190425T164133Z
URL:https://twinlakesrecoverycenter.com/tlrc-events/3rd-annual-alumni-gath
 ering/
SUMMARY:3rd Annual Alumni Gathering
DESCRIPTION:Bring your families for recovery support\, education\, food\, f
 ellowship and fun.\n\nChildcare will be provided during meetings and works
 hops if needed\, so please register your family.\n\nWe look forward to see
 ing you!\n\nPlease Register Below\n\nDownload Flyer\n
CATEGORIES:Alumni
LOCATION:Twin Lakes Recovery Center MONROE\, 398 Highway 11\, SW\, Monroe\,
  Georgia\, 30655\, United States
X-APPLE-STRUCTURED-LOCATION;VALUE=URI;X-ADDRESS=398 Highway 11\, SW\, Monro
 e\, Georgia\, 30655\, United States;X-APPLE-RADIUS=100;X-TITLE=Twin Lakes 
 Recovery Center MONROE:geo:0,0
END:VEVENT
BEGIN:VTIMEZONE
TZID:America/Chicago
X-LIC-LOCATION:America/Chicago
BEGIN:DAYLIGHT
DTSTART:20190310T030000
TZOFFSETFROM:-0600
TZOFFSETTO:-0500
TZNAME:CDT
END:DAYLIGHT
END:VTIMEZONE
END:VCALENDAR