BEGIN:VCALENDAR
VERSION:2.0
PRODID:-//wp-events-plugin.com//7.2.3.1//EN
TZID:America/New_York
X-WR-TIMEZONE:America/New_York
BEGIN:VEVENT
UID:746@twinlakesrecoverycenter.com
DTSTART;TZID=America/New_York:20260512T100000
DTEND;TZID=America/New_York:20260512T131500
DTSTAMP:20260330T122038Z
URL:https://twinlakesrecoverycenter.com/tlrc-events/drug-testing-of-the-ph
 armacy-of-the-streets/
SUMMARY:Drug Testing of the Pharmacy of the Streets
DESCRIPTION:Summary\nA basic review of current drug testing modalities\n\nT
 icket Price\n$25: Early Registration\n$35: After April 21\n\nREGISTER HERE
ATTACH;FMTTYPE=image/jpeg:https://twinlakesrecoverycenter.com/wp-content/u
 ploads/2026/03/Drug-Testing-of-the-Pharmacy-of-the-Streets.jpg
CATEGORIES:Educational
END:VEVENT
BEGIN:VTIMEZONE
TZID:America/New_York
X-LIC-LOCATION:America/New_York
BEGIN:DAYLIGHT
DTSTART:20260308T030000
TZOFFSETFROM:-0500
TZOFFSETTO:-0400
TZNAME:EDT
END:DAYLIGHT
END:VTIMEZONE
END:VCALENDAR